BEGIN:VCALENDAR
VERSION:2.0
PRODID:-//ICF Chile - ECPv6.15.11//NONSGML v1.0//EN
CALSCALE:GREGORIAN
METHOD:PUBLISH
X-WR-CALNAME:ICF Chile
X-ORIGINAL-URL:https://icfchile.cl
X-WR-CALDESC:Eventos para ICF Chile
REFRESH-INTERVAL;VALUE=DURATION:PT1H
X-Robots-Tag:noindex
X-PUBLISHED-TTL:PT1H
BEGIN:VTIMEZONE
TZID:America/Halifax
BEGIN:DAYLIGHT
TZOFFSETFROM:-0400
TZOFFSETTO:-0300
TZNAME:ADT
DTSTART:20200308T060000
END:DAYLIGHT
BEGIN:STANDARD
TZOFFSETFROM:-0300
TZOFFSETTO:-0400
TZNAME:AST
DTSTART:20201101T050000
END:STANDARD
BEGIN:DAYLIGHT
TZOFFSETFROM:-0400
TZOFFSETTO:-0300
TZNAME:ADT
DTSTART:20210314T060000
END:DAYLIGHT
BEGIN:STANDARD
TZOFFSETFROM:-0300
TZOFFSETTO:-0400
TZNAME:AST
DTSTART:20211107T050000
END:STANDARD
BEGIN:DAYLIGHT
TZOFFSETFROM:-0400
TZOFFSETTO:-0300
TZNAME:ADT
DTSTART:20220313T060000
END:DAYLIGHT
BEGIN:STANDARD
TZOFFSETFROM:-0300
TZOFFSETTO:-0400
TZNAME:AST
DTSTART:20221106T050000
END:STANDARD
BEGIN:DAYLIGHT
TZOFFSETFROM:-0400
TZOFFSETTO:-0300
TZNAME:ADT
DTSTART:20230312T060000
END:DAYLIGHT
BEGIN:STANDARD
TZOFFSETFROM:-0300
TZOFFSETTO:-0400
TZNAME:AST
DTSTART:20231105T050000
END:STANDARD
BEGIN:DAYLIGHT
TZOFFSETFROM:-0400
TZOFFSETTO:-0300
TZNAME:ADT
DTSTART:20240310T060000
END:DAYLIGHT
BEGIN:STANDARD
TZOFFSETFROM:-0300
TZOFFSETTO:-0400
TZNAME:AST
DTSTART:20241103T050000
END:STANDARD
END:VTIMEZONE
BEGIN:VTIMEZONE
TZID:America/Sao_Paulo
BEGIN:STANDARD
TZOFFSETFROM:-0200
TZOFFSETTO:-0300
TZNAME:-03
DTSTART:20190217T020000
END:STANDARD
END:VTIMEZONE
BEGIN:VEVENT
DTSTART;TZID=America/Halifax:20230130T080000
DTEND;TZID=America/Halifax:20230130T170000
DTSTAMP:20260421T103239
CREATED:20230216T203644Z
LAST-MODIFIED:20230216T203905Z
UID:4976-1675065600-1675098000@icfchile.cl
SUMMARY:La mirada de los sistemas en la supervisión de coaching
DESCRIPTION:
URL:https://icfchile.cl/event/la-mirada-de-los-sistemas-en-la-supervision-de-coaching/
ATTACH;FMTTYPE=image/jpeg:https://icfchile.cl/wp-content/uploads/2023/02/Paz-Zagal-30-02-23.jpg
END:VEVENT
BEGIN:VEVENT
DTSTART;TZID=America/Halifax:20221109T190000
DTEND;TZID=America/Halifax:20221109T200000
DTSTAMP:20260421T103239
CREATED:20221021T194236Z
LAST-MODIFIED:20221021T195827Z
UID:4921-1668020400-1668024000@icfchile.cl
SUMMARY:EL COACH COMO ARTICULADOR DE DIÁLOGOS EN UN MUNDO POLARIZADO
DESCRIPTION:“EL COACH COMO ARTICULADOR DE DIÁLOGOS EN UN MUNDO POLARIZADO” \n\n\n\n\nVen a conocer más de los articuladores de diálogos 5️⃣ \n\n\n\n\n✅ A cargo del expositor Juan Vera Gil \n\n\n\n\n\n\n\nCoach experto en política y poder. Con más de 15\,000 horas de Coaching y acompañamiento \n\n\nestratégico a Personas en el ejercicio del poder y la política. \n\n\n\n\nAutor del libro “Articuladores de lo Posible” dónde se investiga y analiza el acompañamiento en el \n\n\npoder y a política. \n\n\n\n\n \n\n\n\n\nEl webinar será moderado por: \n\n\n\n\n \n\n\n\n\n🟡Carolina Garcia. Presidenta de la Federación internacional de Coaching\, capítulo de Chile \n\n\n\n\nEVENTO GRATUITO \n\n\n\n\n \n\n\n\n\nReserva la fecha \n\n\n\n\n🔸Miércoles 9 de noviembre. \n\n\n\n\n🔸Horario: \n\n\n\n\n16:00 a 17:00 hs Costa Rica/ Guatemala \n\n\n\n\n17:00 a 18:00 hs Colombia/ Ecuador/México /Panamá/ Perú \n\n\n\n\n18:00 a 19:00 hs Bolivia/Puerto Rico/ República Dominicana/ Venezuela \n\n\n\n\n19:00 a 20:00 hs Argentina/Chile/Brasil/ Uruguay \n\n\n\n\n00:00 a 01:00 hs España \n\n\n\n\n \n\n\n\n\n🔸Inscripción GRATUITA\, te esperamos: \n\n\n\n\nhttps://us06web.zoom.us/meeting/register/tZUsd-mqrDgjHtR5T9XtLOKG_kt5Y_ssJWUB 
URL:https://icfchile.cl/event/el-coach-como-articulador-de-dialogos-en-un-mundo-polarizado/
ATTACH;FMTTYPE=image/jpeg:https://icfchile.cl/wp-content/uploads/2022/10/Juan-Vera-9-11-22.jpg
END:VEVENT
BEGIN:VEVENT
DTSTART;TZID=America/Halifax:20220831T173000
DTEND;TZID=America/Halifax:20220831T203000
DTSTAMP:20260421T103239
CREATED:20220831T131314Z
LAST-MODIFIED:20220831T131314Z
UID:4914-1661967000-1661977800@icfchile.cl
SUMMARY:WEBINAR Aportar una mirada global sobre el uso de metodologías creativas en el coaching
DESCRIPTION:
URL:https://icfchile.cl/event/webinar-aportar-una-mirada-global-sobre-el-uso-de-metodologias-creativas-en-el-coaching/
ATTACH;FMTTYPE=image/jpeg:https://icfchile.cl/wp-content/uploads/2022/08/Flyer-icf-2.jpg
END:VEVENT
BEGIN:VEVENT
DTSTART;TZID=America/Halifax:20211006T190000
DTEND;TZID=America/Halifax:20211006T200000
DTSTAMP:20260421T103239
CREATED:20211004T180459Z
LAST-MODIFIED:20211004T180459Z
UID:4709-1633546800-1633550400@icfchile.cl
SUMMARY:“El impacto del coach en la transformación cultural” con Daniel Hayvard L
DESCRIPTION:
URL:https://icfchile.cl/event/el-impacto-del-coach-en-la-transformacion-cultural-con-daniel-hayvard-l/
ATTACH;FMTTYPE=image/jpeg:https://icfchile.cl/wp-content/uploads/2021/10/Educacion-Continua-06-10-21.jpeg
END:VEVENT
BEGIN:VEVENT
DTSTART;TZID=America/Halifax:20210909T190000
DTEND;TZID=America/Halifax:20210909T200000
DTSTAMP:20260421T103239
CREATED:20210908T165100Z
LAST-MODIFIED:20210908T165100Z
UID:4703-1631214000-1631217600@icfchile.cl
SUMMARY:Ganar\, ganar\, ganar” Competencia número 2: Incorpora una mentalidad de coach con Jose Manuel Uribe
DESCRIPTION:
URL:https://icfchile.cl/event/ganar-ganar-ganar-competencia-numero-2-incorpora-una-mentalidad-de-coach-con-jose-manuel-uribe/
ATTACH;FMTTYPE=image/jpeg:https://icfchile.cl/wp-content/uploads/2021/09/Educacion-Continua-09-09-21.jpeg
END:VEVENT
BEGIN:VEVENT
DTSTART;TZID=America/Halifax:20210902T190000
DTEND;TZID=America/Halifax:20210902T200000
DTSTAMP:20260421T103239
CREATED:20210902T192816Z
LAST-MODIFIED:20210902T192816Z
UID:4698-1630609200-1630612800@icfchile.cl
SUMMARY:Presencia del Coach; elemento fundamental para los contextos actuales con Paz Zagal
DESCRIPTION:
URL:https://icfchile.cl/event/presencia-del-coach-elemento-fundamental-para-los-contextos-actuales-con-paz-zagal/
ATTACH;FMTTYPE=image/jpeg:https://icfchile.cl/wp-content/uploads/2021/09/Educacion-Continua-02-09-21.jpeg
END:VEVENT
BEGIN:VEVENT
DTSTART;TZID=America/Halifax:20210826T170000
DTEND;TZID=America/Halifax:20210826T200000
DTSTAMP:20260421T103239
CREATED:20210825T142802Z
LAST-MODIFIED:20210825T142802Z
UID:4691-1629997200-1630008000@icfchile.cl
SUMMARY:Coaching\, el desafío de transitar desde lo individual a la maestría de lo colectivo con Andres Venegas
DESCRIPTION:
URL:https://icfchile.cl/event/coaching-el-desafio-de-transitar-desde-lo-individual-a-la-maestria-de-lo-colectivo-con-andres-venegas/
ATTACH;FMTTYPE=image/jpeg:https://icfchile.cl/wp-content/uploads/2021/08/Educacion-Continua-26-08-21.jpeg
END:VEVENT
BEGIN:VEVENT
DTSTART;TZID=America/Halifax:20210819T190000
DTEND;TZID=America/Halifax:20210819T200000
DTSTAMP:20260421T103239
CREATED:20210817T232007Z
LAST-MODIFIED:20210817T232007Z
UID:4679-1629399600-1629403200@icfchile.cl
SUMMARY:Coaching mindset en la práctica: Una decisión permanente con Gabriel Furman
DESCRIPTION:
URL:https://icfchile.cl/event/coaching-mindset-en-la-practica-una-decision-permanente-con-gabriel-furman/
ATTACH;FMTTYPE=image/jpeg:https://icfchile.cl/wp-content/uploads/2021/08/Educacion-Continua-19-08-21.jpeg
END:VEVENT
BEGIN:VEVENT
DTSTART;TZID=America/Halifax:20210818T193000
DTEND;TZID=America/Halifax:20210818T203000
DTSTAMP:20260421T103239
CREATED:20210817T231317Z
LAST-MODIFIED:20210817T231317Z
UID:4674-1629315000-1629318600@icfchile.cl
SUMMARY:Como potenciar tu marca personal profesional con Ximena Hernández
DESCRIPTION:
URL:https://icfchile.cl/event/como-potenciar-tu-marca-personal-profesional-con-ximena-hernandez/
ATTACH;FMTTYPE=image/jpeg:https://icfchile.cl/wp-content/uploads/2021/08/Educacion-Continua-18-08-21.jpeg
END:VEVENT
BEGIN:VEVENT
DTSTART;TZID=America/Halifax:20210812T190000
DTEND;TZID=America/Halifax:20210812T200000
DTSTAMP:20260421T103239
CREATED:20210811T202158Z
LAST-MODIFIED:20210811T202158Z
UID:4668-1628794800-1628798400@icfchile.cl
SUMMARY:Coaching sistémico orientado a soluciones. Competencia ICF: Evocar conciencia con Eduardo Tartaglini
DESCRIPTION:
URL:https://icfchile.cl/event/coaching-sistemico-orientado-a-soluciones-competencia-icf-evocar-conciencia-con-eduardo-tartaglini/
ATTACH;FMTTYPE=image/jpeg:https://icfchile.cl/wp-content/uploads/2021/08/Educacion-Continua-12-08-21.jpeg
END:VEVENT
BEGIN:VEVENT
DTSTART;TZID=America/Halifax:20210805T190000
DTEND;TZID=America/Halifax:20210805T200000
DTSTAMP:20260421T103239
CREATED:20210802T160138Z
LAST-MODIFIED:20210802T160138Z
UID:4650-1628190000-1628193600@icfchile.cl
SUMMARY:Interpretaciones Sistémicas dentro de las 8 Competencias ICF con Fernanda Bustos G
DESCRIPTION:
URL:https://icfchile.cl/event/interpretaciones-sistemicas-dentro-de-las-8-competencias-icf-con-fernanda-bustos-g/
ATTACH;FMTTYPE=image/jpeg:https://icfchile.cl/wp-content/uploads/2021/08/Educacion-Continua-05-08-21.jpg
END:VEVENT
BEGIN:VEVENT
DTSTART;TZID=America/Sao_Paulo:20210517T090000
DTEND;TZID=America/Sao_Paulo:20210517T130000
DTSTAMP:20260421T103239
CREATED:20210506T215740Z
LAST-MODIFIED:20210508T031552Z
UID:4550-1621242000-1621256400@icfchile.cl
SUMMARY:Ciclo de Webinar - 17 mayo 2021
DESCRIPTION:
URL:https://icfchile.cl/event/ciclo-de-webinar-17-mayo-2021/
CATEGORIES:ICW 2018
ATTACH;FMTTYPE=image/jpeg:https://icfchile.cl/wp-content/uploads/2021/05/Ciclo-de-charlas-Celebremos-la-semana-internacional-del-Coaching-del-17-05-21.jpg
END:VEVENT
BEGIN:VEVENT
DTSTART;TZID=America/Sao_Paulo:20210205T190000
DTEND;TZID=America/Sao_Paulo:20210205T200000
DTSTAMP:20260421T103239
CREATED:20210205T180252Z
LAST-MODIFIED:20210205T180252Z
UID:4461-1612551600-1612555200@icfchile.cl
SUMMARY:Conversaciones ICF Chile: Te invitamos a conocer a: Fabiola Solis
DESCRIPTION:
URL:https://icfchile.cl/event/conversaciones-icf-chile-te-invitamos-a-conocer-a-fabiola-solis/
ATTACH;FMTTYPE=image/jpeg:https://icfchile.cl/wp-content/uploads/2021/02/Fabiola-Solis-5-2-21.jpeg
END:VEVENT
BEGIN:VEVENT
DTSTART;TZID=America/Sao_Paulo:20210129T190000
DTEND;TZID=America/Sao_Paulo:20210129T200000
DTSTAMP:20260421T103239
CREATED:20210129T170011Z
LAST-MODIFIED:20210129T170012Z
UID:4457-1611946800-1611950400@icfchile.cl
SUMMARY:Conversaciones ICF Chile: Te invitamos a conocer a: Gabriel Furman
DESCRIPTION:
URL:https://icfchile.cl/event/conversaciones-icf-chile-te-invitamos-a-conocer-a-gabriel-furman/
ATTACH;FMTTYPE=image/jpeg:https://icfchile.cl/wp-content/uploads/2021/01/Gabriel-Furman-29-01-21.jpeg
END:VEVENT
BEGIN:VEVENT
DTSTART;TZID=America/Sao_Paulo:20210127T203000
DTEND;TZID=America/Sao_Paulo:20210127T213000
DTSTAMP:20260421T103239
CREATED:20210121T145829Z
LAST-MODIFIED:20210121T145841Z
UID:4433-1611779400-1611783000@icfchile.cl
SUMMARY:Taller virtual: ¿Qué es el Coaching?
DESCRIPTION:
URL:https://icfchile.cl/event/taller-virtual-que-es-el-coaching/
ATTACH;FMTTYPE=image/jpeg:https://icfchile.cl/wp-content/uploads/2021/01/Educacion-continua-27-01-21.jpeg
END:VEVENT
BEGIN:VEVENT
DTSTART;TZID=America/Sao_Paulo:20210122T190000
DTEND;TZID=America/Sao_Paulo:20210122T200000
DTSTAMP:20260421T103239
CREATED:20210126T043325Z
LAST-MODIFIED:20210126T204159Z
UID:4442-1611342000-1611345600@icfchile.cl
SUMMARY:Conversaciones ICF Chile: Te invitamos a conocer a: José Uribe
DESCRIPTION:
URL:https://icfchile.cl/event/conversaciones-icf-chile-te-invitamos-a-conocer-a-fernanda-bustos-2/
ATTACH;FMTTYPE=image/jpeg:https://icfchile.cl/wp-content/uploads/2021/01/Jose-Uribe-22-01-21.jpeg
END:VEVENT
BEGIN:VEVENT
DTSTART;TZID=America/Sao_Paulo:20210108T190000
DTEND;TZID=America/Sao_Paulo:20210108T200000
DTSTAMP:20260421T103239
CREATED:20210106T173706Z
LAST-MODIFIED:20210106T173706Z
UID:4424-1610132400-1610136000@icfchile.cl
SUMMARY:Conversaciones ICF Chile: Te invitamos a conocer a: Fernanda Bustos
DESCRIPTION:
URL:https://icfchile.cl/event/conversaciones-icf-chile-te-invitamos-a-conocer-a-fernanda-bustos/
ATTACH;FMTTYPE=image/jpeg:https://icfchile.cl/wp-content/uploads/2021/01/Fernanda-Bustos-8-01-21.jpeg
END:VEVENT
BEGIN:VEVENT
DTSTART;TZID=America/Sao_Paulo:20201218T190000
DTEND;TZID=America/Sao_Paulo:20201218T200000
DTSTAMP:20260421T103239
CREATED:20201217T160638Z
LAST-MODIFIED:20201217T160731Z
UID:4421-1608318000-1608321600@icfchile.cl
SUMMARY:Conversaciones ICF Chile: Te invitamos a conocer a: Andrés Venegas
DESCRIPTION:
URL:https://icfchile.cl/event/conversaciones-icf-chile-te-invitamos-a-conocer-a-andres-venegas/
ATTACH;FMTTYPE=image/jpeg:https://icfchile.cl/wp-content/uploads/2020/12/Andres-Venegas-18-12-20.jpeg
END:VEVENT
BEGIN:VEVENT
DTSTART;TZID=America/Sao_Paulo:20201211T190000
DTEND;TZID=America/Sao_Paulo:20201211T200000
DTSTAMP:20260421T103239
CREATED:20201210T213156Z
LAST-MODIFIED:20201210T213239Z
UID:4397-1607713200-1607716800@icfchile.cl
SUMMARY:Conversaciones ICF Chile: Te invitamos a conocer a: Paz Zagal
DESCRIPTION:
URL:https://icfchile.cl/event/conversaciones-icf-chile-te-invitamos-a-conocer-a-paz-zagal/
ATTACH;FMTTYPE=image/jpeg:https://icfchile.cl/wp-content/uploads/2020/12/Paz-Zagal-11-12-20.jpeg
END:VEVENT
BEGIN:VEVENT
DTSTART;TZID=America/Sao_Paulo:20201204T190000
DTEND;TZID=America/Sao_Paulo:20201204T200000
DTSTAMP:20260421T103239
CREATED:20201204T230425Z
LAST-MODIFIED:20201204T230426Z
UID:4388-1607108400-1607112000@icfchile.cl
SUMMARY:Conversaciones ICF Chile: Te invitamos a conocer a: Sally Bendersky
DESCRIPTION:
URL:https://icfchile.cl/event/conversaciones-icf-chile-te-invitamos-a-conocer-a-sally-bendersky/
ATTACH;FMTTYPE=image/jpeg:https://icfchile.cl/wp-content/uploads/2020/12/Sally-Bendersky-04-12-20.jpeg
END:VEVENT
BEGIN:VEVENT
DTSTART;TZID=America/Sao_Paulo:20201127T190000
DTEND;TZID=America/Sao_Paulo:20201127T200000
DTSTAMP:20260421T103239
CREATED:20201130T232054Z
LAST-MODIFIED:20201130T232134Z
UID:4353-1606503600-1606507200@icfchile.cl
SUMMARY:Conversaciones ICF Chile: Te invitamos a conocer a: Maria Paz Rioseco
DESCRIPTION:
URL:https://icfchile.cl/event/conversaciones-icf-chile-te-invitamos-a-conocer-a-maria-paz-rioseco/
ATTACH;FMTTYPE=image/jpeg:https://icfchile.cl/wp-content/uploads/2020/11/Maria-Paz-Rioseco-27-11-20.jpeg
END:VEVENT
BEGIN:VEVENT
DTSTART;TZID=America/Sao_Paulo:20201120T190000
DTEND;TZID=America/Sao_Paulo:20201120T200000
DTSTAMP:20260421T103239
CREATED:20201120T191516Z
LAST-MODIFIED:20201120T191516Z
UID:4344-1605898800-1605902400@icfchile.cl
SUMMARY:Conversaciones ICF Chile: Te invitamos a conocer a: Fiona Fraser
DESCRIPTION:
URL:https://icfchile.cl/event/conversaciones-icf-chile-te-invitamos-a-conocer-a-fiona-fraser/
ATTACH;FMTTYPE=image/jpeg:https://icfchile.cl/wp-content/uploads/2020/11/Fiona-Fraser-20-11-20.jpeg
END:VEVENT
BEGIN:VEVENT
DTSTART;TZID=America/Sao_Paulo:20201113T190000
DTEND;TZID=America/Sao_Paulo:20201113T200000
DTSTAMP:20260421T103239
CREATED:20201113T000345Z
LAST-MODIFIED:20201113T000346Z
UID:4320-1605294000-1605297600@icfchile.cl
SUMMARY:Conversaciones ICF Chile: Te invitamos a conocer a: Arianna Martinez
DESCRIPTION:
URL:https://icfchile.cl/event/conversaciones-icf-chile-te-invitamos-a-conocer-a-arianna-martinez/
ATTACH;FMTTYPE=image/jpeg:https://icfchile.cl/wp-content/uploads/2020/11/Arianna-Martinez-13-11-20.jpeg
END:VEVENT
BEGIN:VEVENT
DTSTART;TZID=America/Sao_Paulo:20201106T190000
DTEND;TZID=America/Sao_Paulo:20201106T200000
DTSTAMP:20260421T103239
CREATED:20201105T163041Z
LAST-MODIFIED:20201113T000446Z
UID:4305-1604689200-1604692800@icfchile.cl
SUMMARY:Conversaciones ICF Chile: Te invitamos a conocer a: Deborah Davidovics
DESCRIPTION:
URL:https://icfchile.cl/event/conversaciones-icf-chile-te-invitamos-a-conocer-a-deborah-davidovics/
ATTACH;FMTTYPE=image/jpeg:https://icfchile.cl/wp-content/uploads/2020/11/Deborah-Davidovics-6-11-20-1.jpeg
END:VEVENT
BEGIN:VEVENT
DTSTART;TZID=America/Sao_Paulo:20201030T190000
DTEND;TZID=America/Sao_Paulo:20201030T200000
DTSTAMP:20260421T103239
CREATED:20201028T133817Z
LAST-MODIFIED:20201028T134058Z
UID:4296-1604084400-1604088000@icfchile.cl
SUMMARY:Conversaciones ICF Chile: Te invitamos a conocer a: Carla Miranda
DESCRIPTION:
URL:https://icfchile.cl/event/conversaciones-icf-chile-te-invitamos-a-conocer-a-carla-miranda/
ATTACH;FMTTYPE=image/jpeg:https://icfchile.cl/wp-content/uploads/2020/10/Carla-Miranda-30-10-20.jpeg
END:VEVENT
BEGIN:VEVENT
DTSTART;TZID=America/Sao_Paulo:20201023T190000
DTEND;TZID=America/Sao_Paulo:20201023T200000
DTSTAMP:20260421T103239
CREATED:20201023T140529Z
LAST-MODIFIED:20201023T140530Z
UID:4291-1603479600-1603483200@icfchile.cl
SUMMARY:Conversaciones ICF Chile: Te invitamos a conocer a: Eliana Rossi
DESCRIPTION:
URL:https://icfchile.cl/event/conversaciones-icf-chile-te-invitamos-a-conocer-a-eliana-rossi/
ATTACH;FMTTYPE=image/jpeg:https://icfchile.cl/wp-content/uploads/2020/10/Eliana-Rossi-23-10-20.jpeg
END:VEVENT
BEGIN:VEVENT
DTSTART;TZID=America/Sao_Paulo:20201016T190000
DTEND;TZID=America/Sao_Paulo:20201016T200000
DTSTAMP:20260421T103239
CREATED:20201016T173210Z
LAST-MODIFIED:20201016T174335Z
UID:4278-1602874800-1602878400@icfchile.cl
SUMMARY:Conversaciones ICF Chile: Te invitamos a conocer a: Julián Mendiola
DESCRIPTION:
URL:https://icfchile.cl/event/conversaciones-icf-chile-te-invitamos-a-conocer-a-julian-mendiola/
ATTACH;FMTTYPE=image/jpeg:https://icfchile.cl/wp-content/uploads/2020/10/Julian-Mendiola-16-10-20.jpeg
END:VEVENT
BEGIN:VEVENT
DTSTART;TZID=America/Sao_Paulo:20201009T190000
DTEND;TZID=America/Sao_Paulo:20201009T200000
DTSTAMP:20260421T103239
CREATED:20201013T131204Z
LAST-MODIFIED:20201016T173714Z
UID:4269-1602270000-1602273600@icfchile.cl
SUMMARY:Conversaciones ICF Chile: Te invitamos a conocer a: Erika Salazar
DESCRIPTION:
URL:https://icfchile.cl/event/conversaciones-icf-chile-te-invitamos-a-conocer-a-erika-salazar/
ATTACH;FMTTYPE=image/jpeg:https://icfchile.cl/wp-content/uploads/2020/10/Erika-Salazar-09-10-20.jpeg
END:VEVENT
BEGIN:VEVENT
DTSTART;TZID=America/Sao_Paulo:20201002T190000
DTEND;TZID=America/Sao_Paulo:20201002T200000
DTSTAMP:20260421T103239
CREATED:20200930T133652Z
LAST-MODIFIED:20200930T133652Z
UID:4259-1601665200-1601668800@icfchile.cl
SUMMARY:Conversaciones ICF Chile: Te invitamos a conocer a: Jorge Kenigstein
DESCRIPTION:
URL:https://icfchile.cl/event/conversaciones-icf-chile-te-invitamos-a-conocer-a-jorge-kenigstein/
ATTACH;FMTTYPE=image/jpeg:https://icfchile.cl/wp-content/uploads/2020/09/Jorge-Kenigstein-02-10-20.jpeg
END:VEVENT
BEGIN:VEVENT
DTSTART;TZID=America/Sao_Paulo:20200925T190000
DTEND;TZID=America/Sao_Paulo:20200925T200000
DTSTAMP:20260421T103239
CREATED:20200925T132359Z
LAST-MODIFIED:20200930T134526Z
UID:4242-1601060400-1601064000@icfchile.cl
SUMMARY:Conversaciones ICF Chile: Te invitamos a conocer a: Sara Pulgar
DESCRIPTION:
URL:https://icfchile.cl/event/conversaciones-icf-chile-te-invitamos-a-conocer-a-sara-pulgar/
ATTACH;FMTTYPE=image/jpeg:https://icfchile.cl/wp-content/uploads/2020/09/Sara-Pulgar-25-09-20.jpeg
END:VEVENT
END:VCALENDAR