BEGIN:VCALENDAR
VERSION:2.0
PRODID:-//ICF Chile - ECPv6.15.11//NONSGML v1.0//EN
CALSCALE:GREGORIAN
METHOD:PUBLISH
X-WR-CALNAME:ICF Chile
X-ORIGINAL-URL:https://icfchile.cl
X-WR-CALDESC:Eventos para ICF Chile
REFRESH-INTERVAL;VALUE=DURATION:PT1H
X-Robots-Tag:noindex
X-PUBLISHED-TTL:PT1H
BEGIN:VTIMEZONE
TZID:America/Sao_Paulo
BEGIN:STANDARD
TZOFFSETFROM:-0200
TZOFFSETTO:-0300
TZNAME:-03
DTSTART:20190217T020000
END:STANDARD
END:VTIMEZONE
BEGIN:VEVENT
DTSTART;TZID=America/Sao_Paulo:20201127T190000
DTEND;TZID=America/Sao_Paulo:20201127T200000
DTSTAMP:20260421T134922
CREATED:20201130T232054Z
LAST-MODIFIED:20201130T232134Z
UID:4353-1606503600-1606507200@icfchile.cl
SUMMARY:Conversaciones ICF Chile: Te invitamos a conocer a: Maria Paz Rioseco
DESCRIPTION:
URL:https://icfchile.cl/event/conversaciones-icf-chile-te-invitamos-a-conocer-a-maria-paz-rioseco/
ATTACH;FMTTYPE=image/jpeg:https://icfchile.cl/wp-content/uploads/2020/11/Maria-Paz-Rioseco-27-11-20.jpeg
END:VEVENT
BEGIN:VEVENT
DTSTART;TZID=America/Sao_Paulo:20201120T190000
DTEND;TZID=America/Sao_Paulo:20201120T200000
DTSTAMP:20260421T134922
CREATED:20201120T191516Z
LAST-MODIFIED:20201120T191516Z
UID:4344-1605898800-1605902400@icfchile.cl
SUMMARY:Conversaciones ICF Chile: Te invitamos a conocer a: Fiona Fraser
DESCRIPTION:
URL:https://icfchile.cl/event/conversaciones-icf-chile-te-invitamos-a-conocer-a-fiona-fraser/
ATTACH;FMTTYPE=image/jpeg:https://icfchile.cl/wp-content/uploads/2020/11/Fiona-Fraser-20-11-20.jpeg
END:VEVENT
BEGIN:VEVENT
DTSTART;TZID=America/Sao_Paulo:20201113T190000
DTEND;TZID=America/Sao_Paulo:20201113T200000
DTSTAMP:20260421T134922
CREATED:20201113T000345Z
LAST-MODIFIED:20201113T000346Z
UID:4320-1605294000-1605297600@icfchile.cl
SUMMARY:Conversaciones ICF Chile: Te invitamos a conocer a: Arianna Martinez
DESCRIPTION:
URL:https://icfchile.cl/event/conversaciones-icf-chile-te-invitamos-a-conocer-a-arianna-martinez/
ATTACH;FMTTYPE=image/jpeg:https://icfchile.cl/wp-content/uploads/2020/11/Arianna-Martinez-13-11-20.jpeg
END:VEVENT
BEGIN:VEVENT
DTSTART;TZID=America/Sao_Paulo:20201106T190000
DTEND;TZID=America/Sao_Paulo:20201106T200000
DTSTAMP:20260421T134922
CREATED:20201105T163041Z
LAST-MODIFIED:20201113T000446Z
UID:4305-1604689200-1604692800@icfchile.cl
SUMMARY:Conversaciones ICF Chile: Te invitamos a conocer a: Deborah Davidovics
DESCRIPTION:
URL:https://icfchile.cl/event/conversaciones-icf-chile-te-invitamos-a-conocer-a-deborah-davidovics/
ATTACH;FMTTYPE=image/jpeg:https://icfchile.cl/wp-content/uploads/2020/11/Deborah-Davidovics-6-11-20-1.jpeg
END:VEVENT
BEGIN:VEVENT
DTSTART;TZID=America/Sao_Paulo:20201030T190000
DTEND;TZID=America/Sao_Paulo:20201030T200000
DTSTAMP:20260421T134922
CREATED:20201028T133817Z
LAST-MODIFIED:20201028T134058Z
UID:4296-1604084400-1604088000@icfchile.cl
SUMMARY:Conversaciones ICF Chile: Te invitamos a conocer a: Carla Miranda
DESCRIPTION:
URL:https://icfchile.cl/event/conversaciones-icf-chile-te-invitamos-a-conocer-a-carla-miranda/
ATTACH;FMTTYPE=image/jpeg:https://icfchile.cl/wp-content/uploads/2020/10/Carla-Miranda-30-10-20.jpeg
END:VEVENT
BEGIN:VEVENT
DTSTART;TZID=America/Sao_Paulo:20201023T190000
DTEND;TZID=America/Sao_Paulo:20201023T200000
DTSTAMP:20260421T134922
CREATED:20201023T140529Z
LAST-MODIFIED:20201023T140530Z
UID:4291-1603479600-1603483200@icfchile.cl
SUMMARY:Conversaciones ICF Chile: Te invitamos a conocer a: Eliana Rossi
DESCRIPTION:
URL:https://icfchile.cl/event/conversaciones-icf-chile-te-invitamos-a-conocer-a-eliana-rossi/
ATTACH;FMTTYPE=image/jpeg:https://icfchile.cl/wp-content/uploads/2020/10/Eliana-Rossi-23-10-20.jpeg
END:VEVENT
BEGIN:VEVENT
DTSTART;TZID=America/Sao_Paulo:20201016T190000
DTEND;TZID=America/Sao_Paulo:20201016T200000
DTSTAMP:20260421T134922
CREATED:20201016T173210Z
LAST-MODIFIED:20201016T174335Z
UID:4278-1602874800-1602878400@icfchile.cl
SUMMARY:Conversaciones ICF Chile: Te invitamos a conocer a: Julián Mendiola
DESCRIPTION:
URL:https://icfchile.cl/event/conversaciones-icf-chile-te-invitamos-a-conocer-a-julian-mendiola/
ATTACH;FMTTYPE=image/jpeg:https://icfchile.cl/wp-content/uploads/2020/10/Julian-Mendiola-16-10-20.jpeg
END:VEVENT
BEGIN:VEVENT
DTSTART;TZID=America/Sao_Paulo:20201009T190000
DTEND;TZID=America/Sao_Paulo:20201009T200000
DTSTAMP:20260421T134922
CREATED:20201013T131204Z
LAST-MODIFIED:20201016T173714Z
UID:4269-1602270000-1602273600@icfchile.cl
SUMMARY:Conversaciones ICF Chile: Te invitamos a conocer a: Erika Salazar
DESCRIPTION:
URL:https://icfchile.cl/event/conversaciones-icf-chile-te-invitamos-a-conocer-a-erika-salazar/
ATTACH;FMTTYPE=image/jpeg:https://icfchile.cl/wp-content/uploads/2020/10/Erika-Salazar-09-10-20.jpeg
END:VEVENT
BEGIN:VEVENT
DTSTART;TZID=America/Sao_Paulo:20201002T190000
DTEND;TZID=America/Sao_Paulo:20201002T200000
DTSTAMP:20260421T134922
CREATED:20200930T133652Z
LAST-MODIFIED:20200930T133652Z
UID:4259-1601665200-1601668800@icfchile.cl
SUMMARY:Conversaciones ICF Chile: Te invitamos a conocer a: Jorge Kenigstein
DESCRIPTION:
URL:https://icfchile.cl/event/conversaciones-icf-chile-te-invitamos-a-conocer-a-jorge-kenigstein/
ATTACH;FMTTYPE=image/jpeg:https://icfchile.cl/wp-content/uploads/2020/09/Jorge-Kenigstein-02-10-20.jpeg
END:VEVENT
BEGIN:VEVENT
DTSTART;TZID=America/Sao_Paulo:20200925T190000
DTEND;TZID=America/Sao_Paulo:20200925T200000
DTSTAMP:20260421T134922
CREATED:20200925T132359Z
LAST-MODIFIED:20200930T134526Z
UID:4242-1601060400-1601064000@icfchile.cl
SUMMARY:Conversaciones ICF Chile: Te invitamos a conocer a: Sara Pulgar
DESCRIPTION:
URL:https://icfchile.cl/event/conversaciones-icf-chile-te-invitamos-a-conocer-a-sara-pulgar/
ATTACH;FMTTYPE=image/jpeg:https://icfchile.cl/wp-content/uploads/2020/09/Sara-Pulgar-25-09-20.jpeg
END:VEVENT
BEGIN:VEVENT
DTSTART;TZID=America/Sao_Paulo:20200918T190000
DTEND;TZID=America/Sao_Paulo:20200918T200000
DTSTAMP:20260421T134922
CREATED:20200916T225654Z
LAST-MODIFIED:20200928T132707Z
UID:4235-1600455600-1600459200@icfchile.cl
SUMMARY:Conversaciones ICF Chile: Te invitamos a conocer a: Carola Fredes
DESCRIPTION:
URL:https://icfchile.cl/event/conversaciones-icf-chile-te-invitamos-a-conocer-a-carola-fredes/
ATTACH;FMTTYPE=image/jpeg:https://icfchile.cl/wp-content/uploads/2020/09/Carola-Fredes-18-09-20.jpeg
END:VEVENT
BEGIN:VEVENT
DTSTART;TZID=America/Sao_Paulo:20200911T190000
DTEND;TZID=America/Sao_Paulo:20200911T200000
DTSTAMP:20260421T134922
CREATED:20200911T202409Z
LAST-MODIFIED:20200916T224252Z
UID:4229-1599850800-1599854400@icfchile.cl
SUMMARY:Conversaciones ICF Chile: Te invitamos a conocer a: Félix Arias
DESCRIPTION:
URL:https://icfchile.cl/event/conversaciones-icf-chile-te-invitamos-a-conocer-a-felix-arias/
ATTACH;FMTTYPE=image/jpeg:https://icfchile.cl/wp-content/uploads/2020/09/Captura-de-Pantalla-2020-09-16-a-las-17.26.00.jpg
END:VEVENT
BEGIN:VEVENT
DTSTART;TZID=America/Sao_Paulo:20200722T083000
DTEND;TZID=America/Sao_Paulo:20200722T170000
DTSTAMP:20260421T134922
CREATED:20200721T190620Z
LAST-MODIFIED:20200721T190621Z
UID:4174-1595406600-1595437200@icfchile.cl
SUMMARY:HRDAY – Supera los desafíos en tiempos de cambio
DESCRIPTION:
URL:https://icfchile.cl/event/hrday-supera-los-desafios-en-tiempos-de-cambio/
ATTACH;FMTTYPE=image/jpeg:https://icfchile.cl/wp-content/uploads/2020/07/HRDAY-22-07-20-scaled.jpg
END:VEVENT
BEGIN:VEVENT
DTSTART;TZID=America/Sao_Paulo:20200715T193000
DTEND;TZID=America/Sao_Paulo:20200715T210000
DTSTAMP:20260421T134922
CREATED:20200713T141953Z
LAST-MODIFIED:20200713T141954Z
UID:4162-1594841400-1594846800@icfchile.cl
SUMMARY:Danza de Conversaciones con Leonardo Wolk
DESCRIPTION:
URL:https://icfchile.cl/event/danza-de-conversaciones-con-leonardo-wolk/
ATTACH;FMTTYPE=image/jpeg:https://icfchile.cl/wp-content/uploads/2020/07/Educacion-Continua-15-07-20.jpeg
END:VEVENT
BEGIN:VEVENT
DTSTART;TZID=America/Sao_Paulo:20200708T193000
DTEND;TZID=America/Sao_Paulo:20200708T210000
DTSTAMP:20260421T134922
CREATED:20200707T011125Z
LAST-MODIFIED:20200707T011126Z
UID:4149-1594236600-1594242000@icfchile.cl
SUMMARY:Mindful coaching y la observación reflexiva de las sesiones
DESCRIPTION:
URL:https://icfchile.cl/event/mindful-coaching-y-la-observacion-reflexiva-de-las-sesiones/
ATTACH;FMTTYPE=image/jpeg:https://icfchile.cl/wp-content/uploads/2020/07/Educacion-Continua-08-07-20.jpeg
END:VEVENT
BEGIN:VEVENT
DTSTART;TZID=America/Sao_Paulo:20200701T193000
DTEND;TZID=America/Sao_Paulo:20200701T210000
DTSTAMP:20260421T134922
CREATED:20200629T183251Z
LAST-MODIFIED:20200629T185254Z
UID:4138-1593631800-1593637200@icfchile.cl
SUMMARY:Supervisión de Coaching
DESCRIPTION:
URL:https://icfchile.cl/event/supervision-de-coaching/
ATTACH;FMTTYPE=image/jpeg:https://icfchile.cl/wp-content/uploads/2020/06/Educacion-Continua-01-07-20-1.jpeg
END:VEVENT
BEGIN:VEVENT
DTSTART;TZID=America/Sao_Paulo:20200701T110000
DTEND;TZID=America/Sao_Paulo:20200701T123000
DTSTAMP:20260421T134922
CREATED:20200623T000659Z
LAST-MODIFIED:20200629T185417Z
UID:4131-1593601200-1593606600@icfchile.cl
SUMMARY:Comunicar nuestra actividad hoy
DESCRIPTION:
URL:https://icfchile.cl/event/comunicar-nuestra-actividad-hoy/
ATTACH;FMTTYPE=image/png:https://icfchile.cl/wp-content/uploads/2020/06/Captura-de-Pantalla-2020-06-24-a-las-20.27.50.png
END:VEVENT
BEGIN:VEVENT
DTSTART;TZID=America/Sao_Paulo:20200625T200000
DTEND;TZID=America/Sao_Paulo:20200625T213000
DTSTAMP:20260421T134922
CREATED:20200623T000203Z
LAST-MODIFIED:20200629T185456Z
UID:4126-1593115200-1593120600@icfchile.cl
SUMMARY:What are the rules now | Tarde
DESCRIPTION:Horarios Chile: 10:00 – 11:30 / 20.00 – 21:30
URL:https://icfchile.cl/event/what-are-the-rules-now-tarde/
ATTACH;FMTTYPE=image/jpeg:https://icfchile.cl/wp-content/uploads/2020/06/Captura-de-Pantalla-2020-06-24-a-las-20.26.43.jpg
END:VEVENT
BEGIN:VEVENT
DTSTART;TZID=America/Sao_Paulo:20200625T100000
DTEND;TZID=America/Sao_Paulo:20200625T113000
DTSTAMP:20260421T134922
CREATED:20200622T235057Z
LAST-MODIFIED:20200629T185538Z
UID:4119-1593079200-1593084600@icfchile.cl
SUMMARY:What are the rules now | Mañana
DESCRIPTION:Horarios Chile: 10:00 – 11:30 / 20.00 – 21:30
URL:https://icfchile.cl/event/what-are-the-rules-now-manana/
ATTACH;FMTTYPE=image/jpeg:https://icfchile.cl/wp-content/uploads/2020/06/Captura-de-Pantalla-2020-06-24-a-las-20.26.43.jpg
END:VEVENT
BEGIN:VEVENT
DTSTART;TZID=America/Sao_Paulo:20200624T193000
DTEND;TZID=America/Sao_Paulo:20200624T210000
DTSTAMP:20260421T134922
CREATED:20200622T233140Z
LAST-MODIFIED:20200622T233142Z
UID:4114-1593027000-1593032400@icfchile.cl
SUMMARY:Liderazgo y Transformación en ambientes virtuales
DESCRIPTION:
URL:https://icfchile.cl/event/liderazgo-y-transformacion-en-ambientes-virtuales/
ATTACH;FMTTYPE=image/jpeg:https://icfchile.cl/wp-content/uploads/2020/06/Educacion-continua-24-06-20.jpeg
END:VEVENT
BEGIN:VEVENT
DTSTART;TZID=America/Sao_Paulo:20200617T193000
DTEND;TZID=America/Sao_Paulo:20200617T210000
DTSTAMP:20260421T134922
CREATED:20200615T173127Z
LAST-MODIFIED:20200615T173128Z
UID:4083-1592422200-1592427600@icfchile.cl
SUMMARY:Compartir construyendo y Construir colaborando
DESCRIPTION:
URL:https://icfchile.cl/event/compartir-construyendo-y-construir-colaborando/
ATTACH;FMTTYPE=image/jpeg:https://icfchile.cl/wp-content/uploads/2020/06/Educacion-continua-17-06-20.jpeg
END:VEVENT
BEGIN:VEVENT
DTSTART;TZID=America/Sao_Paulo:20200610T193000
DTEND;TZID=America/Sao_Paulo:20200610T210000
DTSTAMP:20260421T134922
CREATED:20200609T052322Z
LAST-MODIFIED:20200609T052323Z
UID:4075-1591817400-1591822800@icfchile.cl
SUMMARY:La voz de la influencia
DESCRIPTION:
URL:https://icfchile.cl/event/la-voz-de-la-influencia/
ATTACH;FMTTYPE=image/jpeg:https://icfchile.cl/wp-content/uploads/2020/06/Educacion-Continua-10-06-20.jpeg
END:VEVENT
BEGIN:VEVENT
DTSTART;TZID=America/Sao_Paulo:20200603T193000
DTEND;TZID=America/Sao_Paulo:20200603T210000
DTSTAMP:20260421T134922
CREATED:20200601T045843Z
LAST-MODIFIED:20200601T045912Z
UID:4063-1591212600-1591218000@icfchile.cl
SUMMARY:El camino hacia el desarrollo del ser: Coaching evolutivo
DESCRIPTION:
URL:https://icfchile.cl/event/el-camino-hacia-el-desarrollo-del-ser-coaching-evolutivo/
ATTACH;FMTTYPE=image/jpeg:https://icfchile.cl/wp-content/uploads/2020/06/Educacion-continua-03-06-20.jpeg
END:VEVENT
BEGIN:VEVENT
DTSTART;TZID=America/Sao_Paulo:20200527T193000
DTEND;TZID=America/Sao_Paulo:20200527T210000
DTSTAMP:20260421T134922
CREATED:20200525T213600Z
LAST-MODIFIED:20200525T213600Z
UID:4043-1590607800-1590613200@icfchile.cl
SUMMARY:El coaching y su sentido en la era digital
DESCRIPTION:
URL:https://icfchile.cl/event/el-coaching-y-su-sentido-en-la-era-digital/
ATTACH;FMTTYPE=image/jpeg:https://icfchile.cl/wp-content/uploads/2020/05/Educacion-continua-27-05-20.jpeg
END:VEVENT
BEGIN:VEVENT
DTSTART;TZID=America/Sao_Paulo:20200520T193000
DTEND;TZID=America/Sao_Paulo:20200520T210000
DTSTAMP:20260421T134922
CREATED:20200519T140750Z
LAST-MODIFIED:20200519T140751Z
UID:4026-1590003000-1590008400@icfchile.cl
SUMMARY:Nueva normalidad
DESCRIPTION:
URL:https://icfchile.cl/event/nueva-normalidad/
ATTACH;FMTTYPE=image/jpeg:https://icfchile.cl/wp-content/uploads/2020/05/Educacion-Continua-20-05-20.jpeg
END:VEVENT
BEGIN:VEVENT
DTSTART;TZID=America/Sao_Paulo:20200513T193000
DTEND;TZID=America/Sao_Paulo:20200513T210000
DTSTAMP:20260421T134922
CREATED:20200513T191532Z
LAST-MODIFIED:20200513T191533Z
UID:4021-1589398200-1589403600@icfchile.cl
SUMMARY:Emprender en tiempos de crisis
DESCRIPTION:
URL:https://icfchile.cl/event/emprender-en-tiempos-de-crisis/
ATTACH;FMTTYPE=image/jpeg:https://icfchile.cl/wp-content/uploads/2020/05/Educacion-continua-13-05-20.jpeg
END:VEVENT
BEGIN:VEVENT
DTSTART;TZID=America/Sao_Paulo:20200506T190000
DTEND;TZID=America/Sao_Paulo:20200506T210000
DTSTAMP:20260421T134922
CREATED:20200502T231249Z
LAST-MODIFIED:20200502T233442Z
UID:4011-1588791600-1588798800@icfchile.cl
SUMMARY:Celebración ICF – ICW. Conversatorio “Oportunidades del coaching en un mundo VICA”
DESCRIPTION:
URL:https://icfchile.cl/event/celebracion-icf-icw-conversatorio-oportunidades-del-coaching-en-un-mundo-vica/
ATTACH;FMTTYPE=image/jpeg:https://icfchile.cl/wp-content/uploads/2020/05/Evento-de-ICW-06-05-20.jpeg
END:VEVENT
BEGIN:VEVENT
DTSTART;TZID=America/Sao_Paulo:20200429T193000
DTEND;TZID=America/Sao_Paulo:20200429T210000
DTSTAMP:20260421T134922
CREATED:20200428T140912Z
LAST-MODIFIED:20200428T140913Z
UID:3984-1588188600-1588194000@icfchile.cl
SUMMARY:Reactivando la motivación frente a la incertidumbre
DESCRIPTION:
URL:https://icfchile.cl/event/reactivando-la-motivacion-frente-a-la-incertidumbre/
ATTACH;FMTTYPE=image/jpeg:https://icfchile.cl/wp-content/uploads/2020/04/Educacion-Continua-29-04-20.jpeg
END:VEVENT
BEGIN:VEVENT
DTSTART;TZID=America/Sao_Paulo:20200422T193000
DTEND;TZID=America/Sao_Paulo:20200422T210000
DTSTAMP:20260421T134922
CREATED:20200420T005257Z
LAST-MODIFIED:20200420T005257Z
UID:3967-1587583800-1587589200@icfchile.cl
SUMMARY:Fortaleciéndome para abordar lo no conocido y la incertidumbre.
DESCRIPTION:
URL:https://icfchile.cl/event/fortaleciendome-para-abordar-lo-no-conocido-y-la-incertidumbre/
ATTACH;FMTTYPE=image/jpeg:https://icfchile.cl/wp-content/uploads/2020/04/Educacion-Continua-22-04-20.jpeg
END:VEVENT
BEGIN:VEVENT
DTSTART;TZID=America/Sao_Paulo:20200421T173000
DTEND;TZID=America/Sao_Paulo:20200421T183000
DTSTAMP:20260421T134922
CREATED:20200420T165935Z
LAST-MODIFIED:20200420T170214Z
UID:3976-1587490200-1587493800@icfchile.cl
SUMMARY:Cafe virtual -Te invitamos a seguir conversando
DESCRIPTION:
URL:https://icfchile.cl/event/cafe-virtual-te-invitamos-a-seguir-conversando/
ATTACH;FMTTYPE=image/jpeg:https://icfchile.cl/wp-content/uploads/2020/04/evento-21abr.jpeg
END:VEVENT
END:VCALENDAR