BEGIN:VCALENDAR
VERSION:2.0
PRODID:-//ICF Chile - ECPv6.15.11//NONSGML v1.0//EN
CALSCALE:GREGORIAN
METHOD:PUBLISH
X-ORIGINAL-URL:https://icfchile.cl
X-WR-CALDESC:Eventos para ICF Chile
REFRESH-INTERVAL;VALUE=DURATION:PT1H
X-Robots-Tag:noindex
X-PUBLISHED-TTL:PT1H
BEGIN:VTIMEZONE
TZID:UTC
BEGIN:STANDARD
TZOFFSETFROM:+0000
TZOFFSETTO:+0000
TZNAME:UTC
DTSTART:20170101T000000
END:STANDARD
END:VTIMEZONE
BEGIN:VEVENT
DTSTART;TZID=UTC:20180510T083000
DTEND;TZID=UTC:20180510T130000
DTSTAMP:20260421T202552
CREATED:20180412T005923Z
LAST-MODIFIED:20180426T185051Z
UID:2812-1525941000-1525957200@icfchile.cl
SUMMARY:Open Space 2018 Antofagasta
DESCRIPTION:El Open Space es una metodología novedosa\, de reuniones para grandes grupos\, que facilita de un modo eficaz la participación colectiva. \nAl “abrir el espacio” surge un proceso emergente\, que invita a todos los participantes a construir y organizar la propia agenda\, en torno a un tema central (o pregunta) que a todos convoca e interesa. Todo ocurre en una gran sesión\, abierta y transparente\, en la que libremente se negocian los subtemas y se conforman los distintos grupos que los llevarán adelante. \nCada una de estas reuniones es luego reportada\, publicándose sus principales conclusiones y sugerencias en un panel central especialmente montado. \nLa International Coach Federation (ICF) Chile\, tiene el agrado de invitarles al evento Open Space 2018. Encuentro donde nos reuniremos diversos actores del Coaching\, compartiremos experiencias y conoceremos tendencias. \nAgradecemos desde ya su presencia en este evento\, la que sin duda será un aporte a la actividad. \nInscripciones y más información en el enlace: https://icfchile.cl/open-space-2018/ \nValor No Miembros ICF Chile: $15.000\, Entrada liberada para Miembros ICF Chile y Organizaciones invitadas.
URL:https://icfchile.cl/event/open-space-2018-antofagasta/
LOCATION:Universidad Católica del Norte\, Angamos 0610\, Antofagasta\, Chile
CATEGORIES:ICW 2018
ATTACH;FMTTYPE=:https://icfchile.cl/wp-content/uploads/2018/04/banner.jpg
ORGANIZER;CN="ICF Chile":MAILTO:secretaria@icfchile.cl
END:VEVENT
BEGIN:VEVENT
DTSTART;TZID=UTC:20180509T180000
DTEND;TZID=UTC:20180509T200000
DTSTAMP:20260421T202552
CREATED:20180412T071932Z
LAST-MODIFIED:20180412T072852Z
UID:2826-1525888800-1525896000@icfchile.cl
SUMMARY:El Mundo Emocional en Nuestras Relaciones
DESCRIPTION:Somos seres relacionales y nuestro mundo emocional determina en gran medida lo que es posible y lo que no en nuestros espacios de convivencia con un otro. \nLas emociones ponen el contexto para que se despliegue nuestro vivir con otros. \nHemos sido educados y entrenados para ser razonables y no mostrar nuesta emociones. Esto nos ha llevado a vivir desconectados de nuestra experiencia interna\, no dando espacio a nuestros sentires. \nA lo largo de muchos años trabajándo con seres humanos hemos presenciado los costos de esta desconexión que parecieran hacerse cada vez más evidente: falta de sentido de la vida\, resignación\, desencanto\, aumento de depresión\, estrés\, crisis personales\, etc. Estos resultados que vemos bastante catastróficos y con consecuencias aberrantes para nuestro mundo relacional\, tienen que ver en gran parte con no habitar y hacer una buena gestion de nuestras emociones. \nEsta charla es una invitación a conocer más de tus emociones y estados de ánimo\, al servicio de mejorar tu comunicación y relación con los demás en los dominios: familia\, pareja\, hijos\, equipo de trabajo\, comunidad\, etc. \nPAZ ZAGAL \n\nEducadora y Coach Ontológico de Newfield Network desde el 2004.\nDesde el 2004\, ha estado en la formación de coaches ontológicos en Newfield Network\, en Chile\, Colombia\, España\, y Perú.\nMCC Acreditada por ICF.\nDirectora académica de programas de la Escuela Internacional de Coaching Ontológico de Newfield Network y Programa el Arte del Coaching Profesional ACP Avanzado impartidos en Latinoamérica.\nHa liderado y formando equipos de coaches desde el 2010.\nConsultor Senior de Newfield Network\, para programas organizacionales y consultorías.\nCreadora de diferentes Programas de profundización y especialización para coaches.\nForma parte del equipo de ponentes que sostienen la formación de coaches en los Programas: “el Arte del Coaching Profesional\, ACP”\, “Programa Avanzado de cuerpo y movimiento para coaches” y “ACP Avanzado”.\n\nOrganiza ICF Colombia\, regístrate directo en https://zoom.us/webinar/register/WN_t9JXoA05QHKWyv4pN3-cHA
URL:https://icfchile.cl/event/el-mundo-emocional-en-nuestras-relaciones/
CATEGORIES:ICW 2018
ATTACH;FMTTYPE=image/jpeg:https://icfchile.cl/wp-content/uploads/2018/04/Semana-Internacional-del-Coaching-Paz-Zagal.jpeg
END:VEVENT
BEGIN:VEVENT
DTSTART;TZID=UTC:20180509T143000
DTEND;TZID=UTC:20180509T170000
DTSTAMP:20260421T202553
CREATED:20180508T225125Z
LAST-MODIFIED:20180508T225146Z
UID:2899-1525876200-1525885200@icfchile.cl
SUMMARY:Taller "Comunicar desde mi propósito de vida"
DESCRIPTION:Este miércoles 9 de mayo se realizará el Taller «Comunicar desde mi propósito de vida» para educadores del Liceo Eugenio María de Hostos de la comuna de La Reina.\nFacilitan: María Cristina Durán\, Claudia Vidal y Paula Verdugo\, coaches miembros de ICF. \nTaller cerrado para educadores del establecimiento.
URL:https://icfchile.cl/event/taller-comunicar-desde-mi-proposito-de-vida/
LOCATION:Liceo Eugenio María de Hostos\, Chile
CATEGORIES:ICW 2018
ATTACH;FMTTYPE=image/jpeg:https://icfchile.cl/wp-content/uploads/2018/05/Taller-para-educadores-ICW-2018.jpg
ORGANIZER;CN="ICF Chile":MAILTO:secretaria@icfchile.cl
END:VEVENT
BEGIN:VEVENT
DTSTART;TZID=UTC:20180507T200000
DTEND;TZID=UTC:20180507T213000
DTSTAMP:20260421T202553
CREATED:20180505T203713Z
LAST-MODIFIED:20180505T203940Z
UID:2893-1525723200-1525728600@icfchile.cl
SUMMARY:Brindemos!!!
DESCRIPTION:Si eres miembro de ICF Chile te invitamos a dar inicio a la Semana Internacional del Coaching 2018 (ICW) con un brindis virtual el próximo lunes 07 de Mayo a las 20 horas por ZOOM.  \n¡Tómate un tiempo para conectar desde tu región! \nConfírmanos tu participación escribiendo a iniciativas@icfchile.cl\, asunto: Brindemos! \nTe esperamos muy entusiasmados para encontrarnos en el siguiente enlace: https://zoom.us/j/3218293115 \n  \n 
URL:https://icfchile.cl/event/brindemos/
CATEGORIES:ICW 2018
ATTACH;FMTTYPE=image/jpeg:https://icfchile.cl/wp-content/uploads/2018/05/Brindis-ICF-Chile-ICW-2018.jpeg
ORGANIZER;CN="ICF Chile":MAILTO:secretaria@icfchile.cl
END:VEVENT
BEGIN:VEVENT
DTSTART;TZID=UTC:20180507T090000
DTEND;TZID=UTC:20180507T090000
DTSTAMP:20260421T202553
CREATED:20180508T225820Z
LAST-MODIFIED:20180508T225820Z
UID:2898-1525683600-1525683600@icfchile.cl
SUMMARY:Aportes de la ICF Chile a la Disciplina
DESCRIPTION:Damos inicio a la Semana Internacional del Coaching. Comenzamos a las 9 am hora de Chile\, con una charla en vivo del nuestra Presidenta de ICF Chile\, Fiona Fraser. Te esperamos por Facebook Live y/o zoom. 
URL:https://icfchile.cl/event/aportes-de-la-icf-chile-a-la-disciplina/
CATEGORIES:ICW 2018
ATTACH;FMTTYPE=image/jpeg:https://icfchile.cl/wp-content/uploads/2018/05/Aportes-de-ICF-Chile-a-la-Disciplina_Axon.jpg
END:VEVENT
END:VCALENDAR